BEGIN:VCALENDAR
VERSION:2.0
CALSCALE:GREGORIAN
PRODID:Zukunftszentrum Berlin
BEGIN:VEVENT
DTSTART;VALUE=DATE:20260602T120000Z
DTEND;VALUE=DATE:20260602T130000Z
LOCATION:Online
DTSTAMP:20260424T140805
SUMMARY:Zukunftsimpuls: Leadership mit Haltung – KI verantwortungsvoll und wirksam einsetzen
URL;VALUE=URI:https://zukunftszentrum-berlin.de/aktuelles/event/zukunftsimpuls-leadership-mit-haltung-ki-verantwortungsvoll-und-wirksam-einsetzen/
DESCRIPTION:Wie kann innovative Führung aussehen?

UID:20260424T140805--
END:VEVENT
END:VCALENDAR