BEGIN:VCALENDAR
VERSION:2.0
CALSCALE:GREGORIAN
PRODID:Zukunftszentrum Berlin
BEGIN:VEVENT
DTSTART;VALUE=DATE:20260512T070000Z
DTEND;VALUE=DATE:20260512T074500Z
LOCATION:Online
DTSTAMP:20260424T170812
SUMMARY:Zukunftsimpuls: In Zukunft mit KI: Was unser Gehirn kann und die KI nicht!
URL;VALUE=URI:https://zukunftszentrum-berlin.de/aktuelles/event/zukunftsimpuls-in-zukunft-mit-ki-was-unser-gehirn-kann-und-die-ki-nicht/
DESCRIPTION:Orientierung für Ihren Weg mit KI


UID:20260424T170812--
END:VEVENT
END:VCALENDAR